View In:
ArcGIS JavaScript
ArcGIS Online Map Viewer
ArcGIS Earth
ArcMap
View Footprint In:
ArcGIS Online Map Viewer
Service Description: test
Name: test
Description:
Single Fused Map Cache: false
Extent:
XMin: 251926.36443953417
YMin: 2737437.8829008555
XMax: 258506.45853627642
YMax: 2743636.6412539836
Spatial Reference: 102443
(3826)
Initial Extent:
XMin: 251926.36443953417
YMin: 2737437.8829008555
XMax: 258506.45853627642
YMax: 2743636.6412539836
Spatial Reference: 102443
(3826)
Full Extent:
XMin: 251926.36443953417
YMin: 2737437.8829008555
XMax: 258506.45853627642
YMax: 2743636.6412539836
Spatial Reference: 102443
(3826)
Pixel Size X: 0.04720364780514964
Pixel Size Y: 0.047186571613328294
Band Count: 4
Pixel Type: U8
RasterFunction Infos: {"rasterFunctionInfos": [{
"name": "None",
"description": "",
"help": ""
}]}
Mensuration Capabilities: Basic
Has Histograms: true
Has Colormap: false
Has Multi Dimensions : false
Rendering Rule:
Min Scale: 0
Max Scale: 0
Copyright Text:
Service Data Type: esriImageServiceDataTypeGeneric
Min Values: 0, 0, 0, 0
Max Values: 255, 255, 255, 255
Mean Values: 55.785151000434, 57.135422126453, 44.627851412127, 113.61397651363
Standard Deviation Values: 72.208184072875, 71.652169007544, 60.244124867345, 126.74158098946
Object ID Field:
Fields:
None
Default Mosaic Method: Center
Allowed Mosaic Methods:
SortField:
SortValue: null
Mosaic Operator: First
Default Compression Quality: 75
Default Resampling Method: Bilinear
Max Record Count: null
Max Image Height: 4100
Max Image Width: 15000
Max Download Image Count: null
Max Mosaic Image Count: null
Allow Raster Function: true
Allow Compute TiePoints: false
Supports Statistics: false
Supports Advanced Queries: false
Use StandardizedQueries: true
Raster Type Infos:
Name: Raster Dataset
Description: Supports all ArcGIS Raster Datasets
Help:
Has Raster Attribute Table: false
Edit Fields Info: null
Ownership Based AccessControl For Rasters: null
Child Resources:
Info
Histograms
Key Properties
Legend
MultiDimensionalInfo
rasterFunctionInfos
Supported Operations:
Export Image
Identify
Measure
Compute Histograms
Compute Statistics Histograms
Get Samples
Compute Class Statistics
Query Boundary
Compute Pixel Location