{
 "currentVersion": 10.71,
 "serviceDescription": "test",
 "name": "test",
 "description": "",
 "extent": {
  "xmin": 251926.36443953417,
  "ymin": 2737437.8829008555,
  "xmax": 258506.45853627642,
  "ymax": 2743636.6412539836,
  "spatialReference": {
   "wkid": 102443,
   "latestWkid": 3826
  }
 },
 "initialExtent": {
  "xmin": 251926.36443953417,
  "ymin": 2737437.8829008555,
  "xmax": 258506.45853627642,
  "ymax": 2743636.6412539836,
  "spatialReference": {
   "wkid": 102443,
   "latestWkid": 3826
  }
 },
 "fullExtent": {
  "xmin": 251926.36443953417,
  "ymin": 2737437.8829008555,
  "xmax": 258506.45853627642,
  "ymax": 2743636.6412539836,
  "spatialReference": {
   "wkid": 102443,
   "latestWkid": 3826
  }
 },
 "pixelSizeX": 0.04720364780514964,
 "pixelSizeY": 0.047186571613328294,
 "bandCount": 4,
 "pixelType": "U8",
 "minPixelSize": 0,
 "maxPixelSize": 0,
 "copyrightText": "",
 "serviceDataType": "esriImageServiceDataTypeGeneric",
 "minValues": [
  0,
  0,
  0,
  0
 ],
 "maxValues": [
  255,
  255,
  255,
  255
 ],
 "meanValues": [
  55.785151000434,
  57.135422126453,
  44.627851412127,
  113.61397651363
 ],
 "stdvValues": [
  72.208184072875,
  71.652169007544,
  60.244124867345,
  126.74158098946
 ],
 "objectIdField": "",
 "fields": [],
 "capabilities": "Image,Metadata,Mensuration",
 "defaultMosaicMethod": "Center",
 "allowedMosaicMethods": "",
 "sortField": "",
 "sortValue": null,
 "mosaicOperator": "First",
 "defaultCompressionQuality": 75,
 "defaultResamplingMethod": "Bilinear",
 "maxImageHeight": 4100,
 "maxImageWidth": 15000,
 "allowRasterFunction": true,
 "rasterFunctionInfos": [
  {
   "name": "None",
   "description": "",
   "help": ""
  }
 ],
 "rasterTypeInfos": [
  {
   "name": "Raster Dataset",
   "description": "Supports all ArcGIS Raster Datasets",
   "help": ""
  }
 ],
 "mensurationCapabilities": "Basic",
 "hasHistograms": true,
 "hasColormap": false,
 "hasRasterAttributeTable": false,
 "minScale": 0,
 "maxScale": 0,
 "exportTilesAllowed": false,
 "hasMultidimensions": false,
 "supportsStatistics": false,
 "supportsAdvancedQueries": false,
 "editFieldsInfo": null,
 "ownershipBasedAccessControlForRasters": null,
 "allowComputeTiePoints": false,
 "useStandardizedQueries": true,
 "advancedQueryCapabilities": {
  "useStandardizedQueries": true,
  "supportsStatistics": false,
  "supportsOrderBy": false,
  "supportsDistinct": false,
  "supportsPagination": false
 },
 "spatialReference": {
  "wkid": 102443,
  "latestWkid": 3826
 }
}
