View In:
ArcGIS JavaScript
ArcGIS Online Map Viewer
ArcGIS Earth
ArcMap
View Footprint In:
ArcGIS Online Map Viewer
Service Description: 94191022
Name: 94191022
Description:
Single Fused Map Cache: false
Extent:
XMin: 222220.33097
YMin: 2592792.3203200004
XMax: 225133.23097
YMax: 2595914.8203200004
Spatial Reference: 32651
(32651)
Initial Extent:
XMin: 222220.33097
YMin: 2592792.3203200004
XMax: 225133.23097
YMax: 2595914.8203200004
Spatial Reference: 32651
(32651)
Full Extent:
XMin: 222220.33097
YMin: 2592792.3203200004
XMax: 225133.23097
YMax: 2595914.8203200004
Spatial Reference: 32651
(32651)
Pixel Size X: 0.0999999999999998
Pixel Size Y: 0.1
Band Count: 4
Pixel Type: U16
RasterFunction Infos: {"rasterFunctionInfos": [{
"name": "None",
"description": "",
"help": ""
}]}
Mensuration Capabilities: Basic
Has Histograms: true
Has Colormap: false
Has Multi Dimensions : false
Rendering Rule:
Min Scale: 0
Max Scale: 0
Copyright Text:
Service Data Type: esriImageServiceDataTypeGeneric
Min Values: 1, 1, 1, 255
Max Values: 255, 255, 255, 255
Mean Values: 137.74607918937, 149.72245676502, 126.52115315186, 255
Standard Deviation Values: 53.91444418268, 42.967801477556, 46.114369835256, 0
Object ID Field:
Fields:
None
Default Mosaic Method: Center
Allowed Mosaic Methods:
SortField:
SortValue: null
Mosaic Operator: First
Default Compression Quality: 75
Default Resampling Method: Nearest
Max Record Count: null
Max Image Height: 4100
Max Image Width: 15000
Max Download Image Count: null
Max Mosaic Image Count: null
Allow Raster Function: true
Allow Compute TiePoints: false
Supports Statistics: false
Supports Advanced Queries: false
Use StandardizedQueries: true
Raster Type Infos:
Name: Raster Dataset
Description: Supports all ArcGIS Raster Datasets
Help:
Has Raster Attribute Table: false
Edit Fields Info: null
Ownership Based AccessControl For Rasters: null
Child Resources:
Info
Histograms
Key Properties
Legend
MultiDimensionalInfo
rasterFunctionInfos
Supported Operations:
Export Image
Identify
Measure
Compute Histograms
Compute Statistics Histograms
Get Samples
Compute Class Statistics
Query Boundary
Compute Pixel Location