{
 "currentVersion": 10.71,
 "serviceDescription": "94191022",
 "name": "94191022",
 "description": "",
 "extent": {
  "xmin": 222220.33097,
  "ymin": 2592792.3203200004,
  "xmax": 225133.23097,
  "ymax": 2595914.8203200004,
  "spatialReference": {
   "wkid": 32651,
   "latestWkid": 32651
  }
 },
 "initialExtent": {
  "xmin": 222220.33097,
  "ymin": 2592792.3203200004,
  "xmax": 225133.23097,
  "ymax": 2595914.8203200004,
  "spatialReference": {
   "wkid": 32651,
   "latestWkid": 32651
  }
 },
 "fullExtent": {
  "xmin": 222220.33097,
  "ymin": 2592792.3203200004,
  "xmax": 225133.23097,
  "ymax": 2595914.8203200004,
  "spatialReference": {
   "wkid": 32651,
   "latestWkid": 32651
  }
 },
 "pixelSizeX": 0.0999999999999998,
 "pixelSizeY": 0.1,
 "bandCount": 4,
 "pixelType": "U16",
 "minPixelSize": 0,
 "maxPixelSize": 0,
 "copyrightText": "",
 "serviceDataType": "esriImageServiceDataTypeGeneric",
 "minValues": [
  1,
  1,
  1,
  255
 ],
 "maxValues": [
  255,
  255,
  255,
  255
 ],
 "meanValues": [
  137.74607918937,
  149.72245676502,
  126.52115315186,
  255
 ],
 "stdvValues": [
  53.91444418268,
  42.967801477556,
  46.114369835256,
  0
 ],
 "objectIdField": "",
 "fields": [],
 "capabilities": "Image,Metadata,Mensuration",
 "defaultMosaicMethod": "Center",
 "allowedMosaicMethods": "",
 "sortField": "",
 "sortValue": null,
 "mosaicOperator": "First",
 "defaultCompressionQuality": 75,
 "defaultResamplingMethod": "Nearest",
 "maxImageHeight": 4100,
 "maxImageWidth": 15000,
 "allowRasterFunction": true,
 "rasterFunctionInfos": [
  {
   "name": "None",
   "description": "",
   "help": ""
  }
 ],
 "rasterTypeInfos": [
  {
   "name": "Raster Dataset",
   "description": "Supports all ArcGIS Raster Datasets",
   "help": ""
  }
 ],
 "mensurationCapabilities": "Basic",
 "hasHistograms": true,
 "hasColormap": false,
 "hasRasterAttributeTable": false,
 "minScale": 0,
 "maxScale": 0,
 "exportTilesAllowed": false,
 "hasMultidimensions": false,
 "supportsStatistics": false,
 "supportsAdvancedQueries": false,
 "editFieldsInfo": null,
 "ownershipBasedAccessControlForRasters": null,
 "allowComputeTiePoints": false,
 "useStandardizedQueries": true,
 "advancedQueryCapabilities": {
  "useStandardizedQueries": true,
  "supportsStatistics": false,
  "supportsOrderBy": false,
  "supportsDistinct": false,
  "supportsPagination": false
 },
 "spatialReference": {
  "wkid": 32651,
  "latestWkid": 32651
 }
}
