View In:
ArcGIS JavaScript
ArcGIS Online Map Viewer
ArcGIS Earth
ArcMap
View Footprint In:
ArcGIS Online Map Viewer
Service Description: 那瑪夏_area3_20220121_tif
Name: 那瑪夏_area3_20220121_tif
Description:
Single Fused Map Cache: false
Extent:
XMin: 261894.67454
YMin: 2570680.6406500004
XMax: 264413.48969
YMax: 2574712.7625100003
Spatial Reference: 32651
(32651)
Initial Extent:
XMin: 261894.67454
YMin: 2570680.6406500004
XMax: 264413.48969
YMax: 2574712.7625100003
Spatial Reference: 32651
(32651)
Full Extent:
XMin: 261894.67454
YMin: 2570680.6406500004
XMax: 264413.48969
YMax: 2574712.7625100003
Spatial Reference: 32651
(32651)
Pixel Size X: 0.09171000000000035
Pixel Size Y: 0.09170999999999634
Band Count: 4
Pixel Type: U8
RasterFunction Infos: {"rasterFunctionInfos": [{
"name": "None",
"description": "",
"help": ""
}]}
Mensuration Capabilities: Basic
Has Histograms: true
Has Colormap: false
Has Multi Dimensions : false
Rendering Rule:
Min Scale: 0
Max Scale: 0
Copyright Text:
Service Data Type: esriImageServiceDataTypeGeneric
Min Values: 0, 0, 0, 0
Max Values: 255, 255, 255, 255
Mean Values: 82.670289239821, 97.942960890195, 78.818611247676, 195.28480958654
Standard Deviation Values: 58.622978414317, 64.730920317076, 55.188291933056, 107.98828454495
Object ID Field:
Fields:
None
Default Mosaic Method: Center
Allowed Mosaic Methods:
SortField:
SortValue: null
Mosaic Operator: First
Default Compression Quality: 75
Default Resampling Method: Bilinear
Max Record Count: null
Max Image Height: 4100
Max Image Width: 15000
Max Download Image Count: null
Max Mosaic Image Count: null
Allow Raster Function: true
Allow Compute TiePoints: false
Supports Statistics: false
Supports Advanced Queries: false
Use StandardizedQueries: true
Raster Type Infos:
Name: Raster Dataset
Description: Supports all ArcGIS Raster Datasets
Help:
Has Raster Attribute Table: false
Edit Fields Info: null
Ownership Based AccessControl For Rasters: null
Child Resources:
Info
Histograms
Key Properties
Legend
MultiDimensionalInfo
rasterFunctionInfos
Supported Operations:
Export Image
Identify
Measure
Compute Histograms
Compute Statistics Histograms
Get Samples
Compute Class Statistics
Query Boundary
Compute Pixel Location