{
 "currentVersion": 10.71,
 "serviceDescription": "那瑪夏_area3_20220121_tif",
 "name": "那瑪夏_area3_20220121_tif",
 "description": "",
 "extent": {
  "xmin": 261894.67454,
  "ymin": 2570680.6406500004,
  "xmax": 264413.48969,
  "ymax": 2574712.7625100003,
  "spatialReference": {
   "wkid": 32651,
   "latestWkid": 32651
  }
 },
 "initialExtent": {
  "xmin": 261894.67454,
  "ymin": 2570680.6406500004,
  "xmax": 264413.48969,
  "ymax": 2574712.7625100003,
  "spatialReference": {
   "wkid": 32651,
   "latestWkid": 32651
  }
 },
 "fullExtent": {
  "xmin": 261894.67454,
  "ymin": 2570680.6406500004,
  "xmax": 264413.48969,
  "ymax": 2574712.7625100003,
  "spatialReference": {
   "wkid": 32651,
   "latestWkid": 32651
  }
 },
 "pixelSizeX": 0.09171000000000035,
 "pixelSizeY": 0.09170999999999634,
 "bandCount": 4,
 "pixelType": "U8",
 "minPixelSize": 0,
 "maxPixelSize": 0,
 "copyrightText": "",
 "serviceDataType": "esriImageServiceDataTypeGeneric",
 "minValues": [
  0,
  0,
  0,
  0
 ],
 "maxValues": [
  255,
  255,
  255,
  255
 ],
 "meanValues": [
  82.670289239821,
  97.942960890195,
  78.818611247676,
  195.28480958654
 ],
 "stdvValues": [
  58.622978414317,
  64.730920317076,
  55.188291933056,
  107.98828454495
 ],
 "objectIdField": "",
 "fields": [],
 "capabilities": "Image,Metadata,Mensuration",
 "defaultMosaicMethod": "Center",
 "allowedMosaicMethods": "",
 "sortField": "",
 "sortValue": null,
 "mosaicOperator": "First",
 "defaultCompressionQuality": 75,
 "defaultResamplingMethod": "Bilinear",
 "maxImageHeight": 4100,
 "maxImageWidth": 15000,
 "allowRasterFunction": true,
 "rasterFunctionInfos": [
  {
   "name": "None",
   "description": "",
   "help": ""
  }
 ],
 "rasterTypeInfos": [
  {
   "name": "Raster Dataset",
   "description": "Supports all ArcGIS Raster Datasets",
   "help": ""
  }
 ],
 "mensurationCapabilities": "Basic",
 "hasHistograms": true,
 "hasColormap": false,
 "hasRasterAttributeTable": false,
 "minScale": 0,
 "maxScale": 0,
 "exportTilesAllowed": false,
 "hasMultidimensions": false,
 "supportsStatistics": false,
 "supportsAdvancedQueries": false,
 "editFieldsInfo": null,
 "ownershipBasedAccessControlForRasters": null,
 "allowComputeTiePoints": false,
 "useStandardizedQueries": true,
 "advancedQueryCapabilities": {
  "useStandardizedQueries": true,
  "supportsStatistics": false,
  "supportsOrderBy": false,
  "supportsDistinct": false,
  "supportsPagination": false
 },
 "spatialReference": {
  "wkid": 32651,
  "latestWkid": 32651
 }
}
