View In:
ArcGIS JavaScript
ArcGIS Online Map Viewer
ArcGIS Earth
ArcMap
View Footprint In:
ArcGIS Online Map Viewer
Service Description: 軟橋UAV
Name: 軟橋UAV
Description:
Single Fused Map Cache: false
Extent:
XMin: 259568.97336000003
YMin: 2731601.19584
XMax: 260613.78311000002
YMax: 2733274.5479900003
Spatial Reference: 102443
(3826)
Initial Extent:
XMin: 259568.97336000003
YMin: 2731601.19584
XMax: 260613.78311000002
YMax: 2733274.5479900003
Spatial Reference: 102443
(3826)
Full Extent:
XMin: 259568.97336000003
YMin: 2731601.19584
XMax: 260613.78311000002
YMax: 2733274.5479900003
Spatial Reference: 102443
(3826)
Pixel Size X: 0.04732999999999936
Pixel Size Y: 0.0473300000000047
Band Count: 4
Pixel Type: U8
RasterFunction Infos: {"rasterFunctionInfos": [{
"name": "None",
"description": "",
"help": ""
}]}
Mensuration Capabilities: Basic
Has Histograms: true
Has Colormap: false
Has Multi Dimensions : false
Rendering Rule:
Min Scale: 0
Max Scale: 0
Copyright Text:
Service Data Type: esriImageServiceDataTypeGeneric
Min Values: 0, 0, 0, 0
Max Values: 255, 255, 255, 255
Mean Values: 94.117262742937, 99.985716788919, 83.480201038775, 189.5786730641
Standard Deviation Values: 67.256734547663, 67.17531545351, 62.589149194277, 111.36645979146
Object ID Field:
Fields:
None
Default Mosaic Method: Center
Allowed Mosaic Methods:
SortField:
SortValue: null
Mosaic Operator: First
Default Compression Quality: 75
Default Resampling Method: Bilinear
Max Record Count: null
Max Image Height: 4100
Max Image Width: 15000
Max Download Image Count: null
Max Mosaic Image Count: null
Allow Raster Function: true
Allow Compute TiePoints: false
Supports Statistics: false
Supports Advanced Queries: false
Use StandardizedQueries: true
Raster Type Infos:
Name: Raster Dataset
Description: Supports all ArcGIS Raster Datasets
Help:
Has Raster Attribute Table: false
Edit Fields Info: null
Ownership Based AccessControl For Rasters: null
Child Resources:
Info
Histograms
Key Properties
Legend
MultiDimensionalInfo
rasterFunctionInfos
Supported Operations:
Export Image
Identify
Measure
Compute Histograms
Compute Statistics Histograms
Get Samples
Compute Class Statistics
Query Boundary
Compute Pixel Location