{
 "currentVersion": 10.71,
 "serviceDescription": "軟橋UAV",
 "name": "軟橋UAV",
 "description": "",
 "extent": {
  "xmin": 259568.97336000003,
  "ymin": 2731601.19584,
  "xmax": 260613.78311000002,
  "ymax": 2733274.5479900003,
  "spatialReference": {
   "wkid": 102443,
   "latestWkid": 3826
  }
 },
 "initialExtent": {
  "xmin": 259568.97336000003,
  "ymin": 2731601.19584,
  "xmax": 260613.78311000002,
  "ymax": 2733274.5479900003,
  "spatialReference": {
   "wkid": 102443,
   "latestWkid": 3826
  }
 },
 "fullExtent": {
  "xmin": 259568.97336000003,
  "ymin": 2731601.19584,
  "xmax": 260613.78311000002,
  "ymax": 2733274.5479900003,
  "spatialReference": {
   "wkid": 102443,
   "latestWkid": 3826
  }
 },
 "pixelSizeX": 0.04732999999999936,
 "pixelSizeY": 0.0473300000000047,
 "bandCount": 4,
 "pixelType": "U8",
 "minPixelSize": 0,
 "maxPixelSize": 0,
 "copyrightText": "",
 "serviceDataType": "esriImageServiceDataTypeGeneric",
 "minValues": [
  0,
  0,
  0,
  0
 ],
 "maxValues": [
  255,
  255,
  255,
  255
 ],
 "meanValues": [
  94.117262742937,
  99.985716788919,
  83.480201038775,
  189.5786730641
 ],
 "stdvValues": [
  67.256734547663,
  67.17531545351,
  62.589149194277,
  111.36645979146
 ],
 "objectIdField": "",
 "fields": [],
 "capabilities": "Image,Metadata,Mensuration",
 "defaultMosaicMethod": "Center",
 "allowedMosaicMethods": "",
 "sortField": "",
 "sortValue": null,
 "mosaicOperator": "First",
 "defaultCompressionQuality": 75,
 "defaultResamplingMethod": "Bilinear",
 "maxImageHeight": 4100,
 "maxImageWidth": 15000,
 "allowRasterFunction": true,
 "rasterFunctionInfos": [
  {
   "name": "None",
   "description": "",
   "help": ""
  }
 ],
 "rasterTypeInfos": [
  {
   "name": "Raster Dataset",
   "description": "Supports all ArcGIS Raster Datasets",
   "help": ""
  }
 ],
 "mensurationCapabilities": "Basic",
 "hasHistograms": true,
 "hasColormap": false,
 "hasRasterAttributeTable": false,
 "minScale": 0,
 "maxScale": 0,
 "exportTilesAllowed": false,
 "hasMultidimensions": false,
 "supportsStatistics": false,
 "supportsAdvancedQueries": false,
 "editFieldsInfo": null,
 "ownershipBasedAccessControlForRasters": null,
 "allowComputeTiePoints": false,
 "useStandardizedQueries": true,
 "advancedQueryCapabilities": {
  "useStandardizedQueries": true,
  "supportsStatistics": false,
  "supportsOrderBy": false,
  "supportsDistinct": false,
  "supportsPagination": false
 },
 "spatialReference": {
  "wkid": 102443,
  "latestWkid": 3826
 }
}
