View In:
ArcGIS JavaScript
ArcGIS Online Map Viewer
ArcGIS Earth
ArcMap
View Footprint In:
ArcGIS Online Map Viewer
Service Description: 疾病水稻_94202075_94202076
Name: 疾病水稻_94202075_94202076
Description:
Single Fused Map Cache: false
Extent:
XMin: 184310.6634999998
YMin: 2604978.4711800013
XMax: 189726.96349999978
YMax: 2608069.0711800014
Spatial Reference: 102443
(3826)
Initial Extent:
XMin: 184310.6634999998
YMin: 2604978.4711800013
XMax: 189726.96349999978
YMax: 2608069.0711800014
Spatial Reference: 102443
(3826)
Full Extent:
XMin: 184310.6634999998
YMin: 2604978.4711800013
XMax: 189726.96349999978
YMax: 2608069.0711800014
Spatial Reference: 102443
(3826)
Pixel Size X: 0.09999999999999978
Pixel Size Y: 0.10000000000000302
Band Count: 1
Pixel Type: U1
RasterFunction Infos: {"rasterFunctionInfos": [{
"name": "None",
"description": "",
"help": ""
}]}
Mensuration Capabilities: Basic
Has Histograms: true
Has Colormap: false
Has Multi Dimensions : false
Rendering Rule:
Min Scale: 0
Max Scale: 0
Copyright Text:
Service Data Type: esriImageServiceDataTypeGeneric
Min Values: 1
Max Values: 1
Mean Values: 1
Standard Deviation Values: 0
Object ID Field:
Fields:
None
Default Mosaic Method: Center
Allowed Mosaic Methods:
SortField:
SortValue: null
Mosaic Operator: First
Default Compression Quality: 75
Default Resampling Method: Bilinear
Max Record Count: null
Max Image Height: 4100
Max Image Width: 15000
Max Download Image Count: null
Max Mosaic Image Count: null
Allow Raster Function: true
Allow Compute TiePoints: false
Supports Statistics: false
Supports Advanced Queries: false
Use StandardizedQueries: true
Raster Type Infos:
Name: Raster Dataset
Description: Supports all ArcGIS Raster Datasets
Help:
Has Raster Attribute Table: true
Edit Fields Info: null
Ownership Based AccessControl For Rasters: null
Child Resources:
Info
Raster Attribute Table
Histograms
Key Properties
Legend
MultiDimensionalInfo
rasterFunctionInfos
Supported Operations:
Export Image
Identify
Measure
Compute Histograms
Compute Statistics Histograms
Get Samples
Compute Class Statistics
Query Boundary
Compute Pixel Location