{
 "currentVersion": 10.71,
 "serviceDescription": "疾病水稻_94202075_94202076",
 "name": "疾病水稻_94202075_94202076",
 "description": "",
 "extent": {
  "xmin": 184310.6634999998,
  "ymin": 2604978.4711800013,
  "xmax": 189726.96349999978,
  "ymax": 2608069.0711800014,
  "spatialReference": {
   "wkid": 102443,
   "latestWkid": 3826
  }
 },
 "initialExtent": {
  "xmin": 184310.6634999998,
  "ymin": 2604978.4711800013,
  "xmax": 189726.96349999978,
  "ymax": 2608069.0711800014,
  "spatialReference": {
   "wkid": 102443,
   "latestWkid": 3826
  }
 },
 "fullExtent": {
  "xmin": 184310.6634999998,
  "ymin": 2604978.4711800013,
  "xmax": 189726.96349999978,
  "ymax": 2608069.0711800014,
  "spatialReference": {
   "wkid": 102443,
   "latestWkid": 3826
  }
 },
 "pixelSizeX": 0.09999999999999978,
 "pixelSizeY": 0.10000000000000302,
 "bandCount": 1,
 "pixelType": "U1",
 "minPixelSize": 0,
 "maxPixelSize": 0,
 "copyrightText": "",
 "serviceDataType": "esriImageServiceDataTypeGeneric",
 "minValues": [
  1
 ],
 "maxValues": [
  1
 ],
 "meanValues": [
  1
 ],
 "stdvValues": [
  0
 ],
 "objectIdField": "",
 "fields": [],
 "capabilities": "Image,Metadata,Mensuration",
 "defaultMosaicMethod": "Center",
 "allowedMosaicMethods": "",
 "sortField": "",
 "sortValue": null,
 "mosaicOperator": "First",
 "defaultCompressionQuality": 75,
 "defaultResamplingMethod": "Bilinear",
 "maxImageHeight": 4100,
 "maxImageWidth": 15000,
 "allowRasterFunction": true,
 "rasterFunctionInfos": [
  {
   "name": "None",
   "description": "",
   "help": ""
  }
 ],
 "rasterTypeInfos": [
  {
   "name": "Raster Dataset",
   "description": "Supports all ArcGIS Raster Datasets",
   "help": ""
  }
 ],
 "mensurationCapabilities": "Basic",
 "hasHistograms": true,
 "hasColormap": false,
 "hasRasterAttributeTable": true,
 "minScale": 0,
 "maxScale": 0,
 "exportTilesAllowed": false,
 "hasMultidimensions": false,
 "supportsStatistics": false,
 "supportsAdvancedQueries": false,
 "editFieldsInfo": null,
 "ownershipBasedAccessControlForRasters": null,
 "allowComputeTiePoints": false,
 "useStandardizedQueries": true,
 "advancedQueryCapabilities": {
  "useStandardizedQueries": true,
  "supportsStatistics": false,
  "supportsOrderBy": false,
  "supportsDistinct": false,
  "supportsPagination": false
 },
 "spatialReference": {
  "wkid": 102443,
  "latestWkid": 3826
 }
}
